BEGIN:VCALENDAR
CALSCALE:GREGORIAN
METHOD:PUBLISH
VERSION:2.0
PRODID:-//iCalWriter OpenSource Project//iCalWriter 0.8.1//EN
BEGIN:VEVENT
DTSTAMP:20260420T012814Z
UID:1776648494zFkg@buergerservice.dessau-rosslau.de
DTSTART;VALUE=DATE:20230923
DTEND;VALUE=DATE:20231222
SUMMARY:Fotoausstellung „Wie sieht`s denn hier aus? Zeigen Sie das Quartier durch Ihre Linse!“
DESCRIPTION:Das Quartiersmanagement wollte wissen: Wie sieht`s denn hier aus? Wie sehen Sie das Quartier am Leipziger Tor?
Anwohner und mehrere Einrichtungen aus dem Quartier sind dem Aufruf gefolgt und haben ihre Fotos eingesendet. Parallel haben über den Sommer vier Foto-Workshops stattgefunden. Dabei haben die Kinder der Kleinen Arche, die Frauen aus dem Soziokulturellen Frauenzentrum, Bewohner vom Haus Anneliese VS`92 und Anwohner ihre Fähigkeiten am Handy und an der Kamera geschult und gemeinsam das Quartier erkundet.
In einer Open Air Ausstellung am Neuen Wasserturm werden nun die Ergebnisse präsentiert: alltägliche und ungewohnte Einblicke ins Quartier, interessante Perspektiven und Motive oder einfach schöne Orte und Stimmungen. 
Die Ausstellung ist kostenlos und bis kurz vor Weihnachten rund um die Uhr geöffnet.
LOCATION:Landesarchiv Sachsen-Anhalt (Alter Wasserturm) 06842 Dessau-Roßlau
URL:https://buergerservice.dessau-rosslau.de/de/hauptnavigation/event/222281,1064/fotoausstellung-wie-siehts-denn-hier-aus-zeigen-sie-das-quartier-durch-ihre-linse-23-09-2023.html
ATTACH:https://buergerservice.dessau-rosslau.de/de/datei/anzeigen/id/222282,1064/qm.png
END:VEVENT
END:VCALENDAR
