BEGIN:VCALENDAR
CALSCALE:GREGORIAN
METHOD:PUBLISH
VERSION:2.0
PRODID:-//iCalWriter OpenSource Project//iCalWriter 0.8.1//EN
BEGIN:VEVENT
DTSTAMP:20260424T030059Z
UID:1776999659A5Az@buergerservice.dessau-rosslau.de
DTSTART:20240310T103000
DTEND:20240310T120000
SUMMARY:Kunst im Park - Wolken, Bäume, Wiesen
DESCRIPTION:„Kunst im Park“ findet einmal im Monat am Sonntag statt. Gemeinsam besuchen wir die Anhaltische Gemäldegalerie, betrachtenKunstwerke zu einem Thema und lassen uns schließlich imBlumengartenhaus zu eigenen Kunstwerken inspirieren.Von 10:30 bis 12:0 Uhr findet die Veranstaltung für Kinder ab 4 Jahren undvon 13:00 bis 14:30 Uhr für Kinder ab 7 Jahren statt.21.01.2410:30 – 12:0013:00 – 14:30Museum, öffne dichDas Schloss Georgium öffnet seine Türen.Gemeinsam erkunden wir die verschiedenenRäume und Kunstwerke und gestaltenein eigenes Museum.25.02.2410:30 – 12:0013:00 – 14:30Wie fühlst du dich?Wie fühlen sich die Personen auf den Gemälden?Wie werden sie dargestellt? Wirlassen uns zu eigenen Porträts inspirieren.17.03.2410:30 – 12:0013:00 – 14:30Wolken, Bäume, WiesenDie Landschaftsdarstellungen in der Gemäldegalerieund der Blick in den Parkregen uns an zu bunten Pop-Up-Karten.Anmeldung: 0340 6612620 oder an gemaeldegalerie@dessau-rosslau.deOrt: Schloss Georgium, Puschkinallee 100, 06846 Dessau-Roßlau
LOCATION:Schloss Georgium / Anhaltische Gemäldegalerie 
URL:https://buergerservice.dessau-rosslau.de/de/hauptnavigation/event/224263,1064/kunst-im-park---wolken-baeume-wiesen-10-03-2024.html
ATTACH:https://buergerservice.dessau-rosslau.de/de/datei/anzeigen/id/224264,1064/04.jpg
END:VEVENT
END:VCALENDAR
