BEGIN:VCALENDAR
CALSCALE:GREGORIAN
METHOD:PUBLISH
VERSION:2.0
PRODID:-//iCalWriter OpenSource Project//iCalWriter 0.8.1//EN
BEGIN:VEVENT
DTSTAMP:20260423T225249Z
UID:177698476939Gk@buergerservice.dessau-rosslau.de
DTSTART:20240418T200000
DTEND;VALUE=DATE:20240418
SUMMARY:"Revolution of Love"
DESCRIPTION:Der gefeierte Klarinettenvirtuose Giora Feidman enthüllt mit großer Freude sein neuestesmusikalisches Projekt: "Revolution of Love". Nach dem überwältigenden Erfolg seiner"Friendship"-Tournee ist Giora Feidman fest entschlossen, das Weltbild mit einerbahnbrechenden Botschaft neu zu schreiben und Liebe unter den Menschen zuverbreiten."Revolution of Love" nimmt die Zuhörer mit auf eine emotionale Reise voller Hoffnungund Verbundenheit. Giora Feidmans einzigartige Fähigkeit, die Emotionen seinesPublikums direkt durch die Klänge seiner Klarinette anzusprechen, erweckt den Wunsch,sich selbst und anderen mit Liebe und Mitgefühl zu begegnen. Die musikalischeDarbietung schafft eine Atmosphäre der Einheit und inspiriert zu einer positivenVeränderung in der Welt.Die Tournee "Revolution of Love" startet im Januar 2024 und verspricht einunvergessliches musikalisches Erlebnis. Die zauberhaften Klänge von Giora FeidmansKlarinette in Verbindung mit den inspirierenden Kompositionen von Majid Montazer,begleitet von bekannten Melodien des Klezmer, sorgen für eine kulturelle Verschmelzungin völliger Harmonie."Revolution of Love" ist mehr als nur ein musikalisches Projekt – „Revolution of Love“ sollMut machen, die Welt durch Liebe zu revolutionieren und somit eine positiveVeränderung in der Gesellschaft herbeizuführen. Giora Feidman und seine Ensembles,die ihn im Laufe der Tournee begleiten werden, freuen sich auf diese einzigartige Tourneeund sind fest davon überzeugt, dass Musik eine mächtige Kraft ist, die Menschen vereintund einen Wandel bewirken kann – eine wahrhaftige Revolution der Liebe durch Musik.Im April 2024 musizieren Giora Feidman und Vytis Šakūras (Piano) zusammen als GioraFeidman Duo und treten dabei in einen musikalischen Dialog.
Stets nimmt Maestro Giora Feidman seine Klarinette in die Hand, um mit den Menscheneine Botschaft zu teilen, um mit Ihnen in Musik zu sprechen und sie an seiner innerenStimme teilhaben zu lassen. „Die Klarinette ist das Mikrofon meiner Seele… und ichwurde geboren, um Musik zu machen“, sagt der Preisträger mehrerer Klassik-Echos. GioraFeidman, weltweit bekannt als der „King of Klezmer“ und Interpret der oscarprämiertenFilmmusik von Steven Spielbergs "Schindlers Liste", bietet seinen Zuhörern bei seinenKonzerten – vom ersten Ton seiner Klarinette an – ein außergewöhnliches Erlebnis. SeinKlang ist wandelbar, leidenschaftlich und emotional, aber auch sinnlich underdverbunden. Bei seinen Konzerten zelebriert er nicht nur Musik, sondern zieht auch stetssein Publikum in den Bann seiner Musik. Auch in den deutschen Filmen „Jenseits derStille“ von Caroline Link und „Comedian Harmonists“ (1997) von Joseph Vilsmaier war erzu hören. Für sein Engagement für Frieden und seine besonderen Verdienste um dieAussöhnung zwischen Völkern, wurde der „Botschafter der Versöhnung“ bereits geehrt.Giora Feidman wurde für den durch sein Lebenswerk geleisteten Beitrag zurVölkerverständigung in Europa der Internationale Brückepreis verliehen. Zudem trägtGiora Feidman das Große Bundesverdienstkreuz, welches seinem Einsatz um dieVersöhnung zwischen Juden und Deutschen Respekt zollt.
LOCATION:Petruskirche Dessau 06844 Dessau-Roßlau
URL:https://buergerservice.dessau-rosslau.de/de/hauptnavigation/event/224486,1064/revolution-of-love-18-04-2024.html
ATTACH:https://buergerservice.dessau-rosslau.de/de/datei/anzeigen/id/224487,1064/giora_feidman_revolution_of_love_1920_1080_credit_macc_management__1_.jpg
END:VEVENT
END:VCALENDAR
