BEGIN:VCALENDAR
CALSCALE:GREGORIAN
METHOD:PUBLISH
VERSION:2.0
PRODID:-//iCalWriter OpenSource Project//iCalWriter 0.8.1//EN
BEGIN:VEVENT
DTSTAMP:20260425T133539Z
UID:1777124139zEGp@buergerservice.dessau-rosslau.de
DTSTART:20250317T140000
DTEND;VALUE=DATE:20250317
SUMMARY:Frauentreff
DESCRIPTION:Wir laden Frauen zu einer Gesprächsrunde ein. Bei Kaffee und Kuchen unterhalten wir uns über aktuelle, politische und soziale Themen, die Sie bewegen.
LOCATION:Sozial-kulturelles Frauenzentrum Dessau e.V. 06842 Dessau-Roßlau
URL:https://buergerservice.dessau-rosslau.de/de/hauptnavigation/event/231777,1064/frauentreff-17-03-2025.html
ATTACH:https://buergerservice.dessau-rosslau.de/de/datei/anzeigen/id/231778,1064/frauenzentrum_lounge-ausstellungsraum-1.og_.jpg
END:VEVENT
END:VCALENDAR
